Workbook
Name afadrei: Investitionsplan!$H$44
Name afaeins: Investitionsplan!$D$44
Name afavier: Investitionsplan!$J$44
Name afazwei: Investitionsplan!$F$44
Name gj: 'Notwendige Angaben'!$A$13
Name gwg: Parameter!$A$19
Name gwgeins: Investitionsplan!$D$26
Name kapges: 'Notwendige Angaben'!$A$19
Name Monat: 'Notwendige Angaben'!$A$11
Name rechnung: 'Notwendige Angaben'!$A$15
Name USt: Parameter!$B$9
Name USt1neu: Parameter!$A$9
Name USteins: Parameter!$A$9
Name USterm: Parameter!$B$10
Name UStermeins: Parameter!$A$10
Name VSt: Parameter!$B$11
Name VSteins: Parameter!$A$11
Name VSterm: Parameter!$B$12
Name VStermeins: Parameter!$A$12
Name VStWE: Parameter!$B$13
Name VStWEeins: Parameter!$A$13

Sheet Notwendige Angaben
A1: Sehr geehrte Gründerin, sehr geehrter Gründer,
A3: vielen Dank, dass Sie das Finanztool der IHK Köln benutzen! Es folgen Informationen sowie Zellen, bei denen Sie notwendige Angaben einfügen müssen, damit das Finanztool richtig rechnen kann:
A4: Hinweis: Keine Sorge, das Finanztool sieht auf den ersten Blick komplexer aus, als es ist. Gehen Sie einfach Schritt für Schritt und Reiter für Reiter durch – dann wird alles schnell klar. Und falls unterwegs Fragen auftauchen, melden Sie sich gerne per E-Mail oder rufen Sie uns an. Wir helfen gern weiter! Wenn Sie nicht im Januar gründen, beginnen Sie bitte mit Ihren Eintragungen im ersten Jahr mit dem Monat, in dem Sie starten möchten. Insgesamt stehen vier Jahre als Planungshorizont zur Verfügung, davon sollten mindestens zwei Jahre monatsgenau geplant werden. Tragen Sie Ihren Startmonat zudem in das Eingabefeld (Zeile 11) ein.
B6: Zellen, in die Sie Werte eintragen können, sind grün gekennzeichnet. Alle anderen Zellen sind schreibgeschützt.
B8: Einige Zellen haben wir mit Erläuterungen versehen - diese erkennen Sie an dem roten Dreieck rechts oben. Sie können sie lesen, wenn Sie mit dem Mauszeiger auf die entsprechende Zelle gehen.
A10: Außerdem bitten wir Sie um einige Angaben, damit das Finanztool und die Formeln richtig funktionieren:
B11: Ihr erster Gründungsmonat: Bitte geben Sie "1" ein für Januar, "2" für Februar usw. Beginnen Sie Ihre Einträge in der Tabelle bitte auch im entsprechenden Monat. Bitte lassen Sie dieses Feld nicht leer!
A13: 2026 | B13: Ihr Gründungsjahr: bitte ändern, falls abweichend.
B15: Wenn Sie gegen Rechnung liefern oder leisten, tragen Sie hier bitte ein "x" ein - der Zahlungseingang wird dann im nächsten Monat berücksichtigt. Bei Zug-um-Zug-Geschäften (Barzahlung, Vorkasse, Lastschrift o.ä.) lassen Sie das Feld bitte leer. Beispiel (Leer lassen): Sie sind Eisverkäufer. Der Kunde erhält das Eis zur gleichen Zeit, wie Sie das Geld. Beispiel (X eintragen): Sie sind Unternehmensberater. Sie beraten Kunden, diese erhalten Rechungen und zahlen nächsten Monat.
B17: Wenn Sie Umsatzsteuer in Rechnung stellen werden, tragen Sie hier bitte ein "x" ein, sonst lassen Sie das Feld bitte leer. Die Zeilen 3 und 4 in den Reitern "Rentabilitätsplan" und "Liquiditätsplan" passen sich entsprechenden Umständen automatisch an.
B19: Wenn Sie eine Kapitalgesellschaft (AG, GmbH, UG (haftungsbeschränkt) gründen, tragen Sie hier bitte ein "x" ein, sonst lassen Sie das Feld bitte leer. Hinweis: Denken Sie daran, dass bei der UG 25% des Gewinns bis zur Summe von 25.000€ angespart werden muss und das Stammkapital bei der GmbH nicht für private Zwecke ausgeschüttet werden darf.
A21: Wir stellen Ihnen hiermit unentgeltlich eine passwortgeschützte Datei in Excel zum Download zur Verfügung. Alle Änderungen daran,
A22: inbesondere Passwortaufhebung, Seiteneinrichtung und Konvertierungen in andere Formate erfolgen auf eigenes Risiko.
A23: Wenn Sie Fragen, Wünsche oder andere Anliegen haben oder uns einfach mitteilen möchten, was Ihnen noch fehlt, schreiben Sie uns unter:
A24: finanztool@koeln.ihk.de
A25: Bei Ihrem Vorhaben wünschen wir Ihnen viel Erfolg!
A27: Industrie- und Handelskammer zu Köln
A28: Ihr Team Beratung und Service

Sheet Privater Finanzbedarf
A1: Hinweis: Falls Sie den Gründungszuschuss beantragen und alleine gründen, wird der Beitrag im Reiter „Liquiditätsplan“ in Zeile 59 eingetragen. | C1: Gründungsperson 1 | H1: Gründungsperson 2 | M1: Gründungsperson 3
C2: =+gj -> 2026 | D2: =+gj+1 -> 2027 | E2: =+gj+2 -> 2028 | F2: =+gj+3 -> 2029 | H2: =+gj -> 2026 | I2: =+gj+1 -> 2027 | J2: =+gj+2 -> 2028 | K2: =+gj+3 -> 2029 | M2: =+gj -> 2026 | N2: =+gj+1 -> 2027 | O2: =+gj+2 -> 2028 | P2: =+gj+3 -> 2029
C3: monatlich | D3: monatlich | E3: monatlich | F3: monatlich | H3: monatlich | I3: monatlich | J3: monatlich | K3: monatlich | M3: monatlich | N3: monatlich | O3: monatlich | P3: monatlich
A4: Private Einnahmen (außerhalb der Selbstständigkeit)
A5: Kindergeld
A6: Erziehungsgeld
A7: Unterhaltsanspruch
A8: Einkommen aus Vermietung und Verpachtung
A9: Einkommen aus Kapitalvermögen
A10: Sonstige Einkünfte
A15: Summe der privaten Einnahmen | C15: =SUM(C5:C14) -> 0 | D15: =SUM(D5:D14) -> 0 | E15: =SUM(E5:E14) -> 0 | F15: =SUM(F5:F14) -> 0 | H15: =SUM(H5:H14) -> 0 | I15: =SUM(I5:I14) -> 0 | J15: =SUM(J5:J14) -> 0 | K15: =SUM(K5:K14) -> 0 | M15: =SUM(M5:M14) -> 0 | N15: =SUM(N5:N14) -> 0 | O15: =SUM(O5:O14) -> 0 | P15: =SUM(P5:P14) -> 0
A17: Hinweis: Falls Sie mit einem Partner zusammen leben, können Sie entweder in den Zeilen 11 bis 14 das Gehalt vom Partner angeben oder Ihre Miet- und Haushaltskosten in den Zeilen 18 bis 26 mit 50% angeben.
A18: Private Ausgaben
A19: Private Miete (einschließlich Nebenkosten)
A20: Krankenversicherung
A21: Rentenversicherung/Altersvorsorge
A22: Sonstige Versicherungen
A23: Zinsen und Tilgung privater Darlehen
A24: Rücklagen für Einkommensteuer
A25: Rücklagen für Neuanschaffungen
A26: Unterhaltsverpflichtung
A27: Lebensunterhalt 1)
A28: Summe der privaten Ausgaben | C28: =SUM(C19:C27) -> 0 | D28: =SUM(D19:D27) -> 0 | E28: =SUM(E19:E27) -> 0 | F28: =SUM(F19:F27) -> 0 | H28: =SUM(H19:H27) -> 0 | I28: =SUM(I19:I27) -> 0 | J28: =SUM(J19:J27) -> 0 | K28: =SUM(K19:K27) -> 0 | M28: =SUM(M19:M27) -> 0 | N28: =SUM(N19:N27) -> 0 | O28: =SUM(O19:O27) -> 0 | P28: =SUM(P19:P27) -> 0
A30: Privater Finanzbedarf = erforderlicher Unternehmerlohn | C30: =-C15+C28 -> 0 | D30: =-D15+D28 -> 0 | E30: =-E15+E28 -> 0 | F30: =-F15+F28 -> 0 | H30: =-H15+H28 -> 0 | I30: =-I15+I28 -> 0 | J30: =-J15+J28 -> 0 | K30: =-K15+K28 -> 0 | M30: =-M15+M28 -> 0 | N30: =-N15+N28 -> 0 | O30: =-O15+O28 -> 0 | P30: =-P15+P28 -> 0
A32: Summe aller privaten Finanzbedarfe für den Liquiditätsplan | C32: =SUM(C30+H30+M30) -> 0 | D32: =SUM(D30+I30+N30) -> 0 | E32: =SUM(E30+J30+O30) -> 0 | F32: =SUM(F30+K30+P30) -> 0
A33: 1) Richtwerte - ohne Miete, Versicherungen, Kosten privater Darlehen, Steuern, Rücklagen und Unterhaltsverpflichtungen (s.o.)
A34: 900 EUR | B34: 1 Erwachsener
A35: 1.025 EUR | B35: 2 Erwachsene
A36: 235 EUR | B36: je Kind
A38: Hier finden Sie einen Link zu durchschnittlichen Lebenshaltungskosten:
A39: Konsumausgaben - Lebenshaltungskosten

Sheet Investitionsplan
A1: Anschaffungen im Gründungsjahr | B1: betriebs-gewöhnliche Nutzungsdauer | C1: =+gj -> 2026 | E1: =+gj+1 -> 2027 | G1: =+gj+2 -> 2028 | I1: =+gj+3 -> 2029
C2: =IF('Notwendige Angaben'!A17="x","Anschaffungs-kosten (netto)","Anschaffungs-kosten (brutto)") -> Anschaffungs-kosten (brutto) | D2: AfA (Absetzung für Abnutzung, Abschreibung) | E2: =+C2 -> Anschaffungs-kosten (brutto) | F2: AfA (Absetzung für Abnutzung, Abschreibung) | G2: =+C2 -> Anschaffungs-kosten (brutto) | H2: AfA (Absetzung für Abnutzung, Abschreibung) | I2: =+C2 -> Anschaffungs-kosten (brutto) | J2: AfA (Absetzung für Abnutzung, Abschreibung)
A3: Investitionen (Anschaffungskosten höher als 800 EUR netto)
D4: =ROUND(IF($B4=0,0,C4/$B4/12*(12+1-Monat)),0) -> 0 | F4: =ROUND(IF(B4=0,0,IF(AND(C4=0,E4=0),0,(C4+E4)/B4)),0) -> 0 | H4: =IF(B4=0,0,ROUND(IF(AND($C4=0,$E4=0,$G4=0),0,($C4+$E4+$G4)/$B4),0)) -> 0 | J4: =IF(B4=0,0,ROUND(IF(AND($C4=0,$E4=0,$G4=0,$I4=0),0,IF(AND(B4=3,Monat>=1),+$C4/$B4-$D4,($C4+$E4+$G4+$I4)/$B4)),0)) -> 0
D5: =ROUND(IF($B5=0,0,C5/$B5/12*(12+1-Monat)),0) -> 0 | F5: =ROUND(IF(B5=0,0,IF(AND(C5=0,E5=0),0,(C5+E5)/B5)),0) -> 0 | H5: =IF(B5=0,0,ROUND(IF(AND($C5=0,$E5=0,$G5=0),0,($C5+$E5+$G5)/$B5),0)) -> 0 | J5: =IF(B5=0,0,ROUND(IF(AND($C5=0,$E5=0,$G5=0,$I5=0),0,IF(AND(B5=3,Monat>=1),+$C5/$B5-$D5,($C5+$E5+$G5+$I5)/$B5)),0)) -> 0
D6: =ROUND(IF($B6=0,0,C6/$B6/12*(12+1-Monat)),0) -> 0 | F6: =ROUND(IF(B6=0,0,IF(AND(C6=0,E6=0),0,(C6+E6)/B6)),0) -> 0 | H6: =IF(B6=0,0,ROUND(IF(AND($C6=0,$E6=0,$G6=0),0,($C6+$E6+$G6)/$B6),0)) -> 0 | J6: =IF(B6=0,0,ROUND(IF(AND($C6=0,$E6=0,$G6=0,$I6=0),0,IF(AND(B6=3,Monat>=1),+$C6/$B6-$D6,($C6+$E6+$G6+$I6)/$B6)),0)) -> 0
D7: =ROUND(IF($B7=0,0,C7/$B7/12*(12+1-Monat)),0) -> 0 | F7: =ROUND(IF(B7=0,0,IF(AND(C7=0,E7=0),0,(C7+E7)/B7)),0) -> 0 | H7: =IF(B7=0,0,ROUND(IF(AND($C7=0,$E7=0,$G7=0),0,($C7+$E7+$G7)/$B7),0)) -> 0 | J7: =IF(B7=0,0,ROUND(IF(AND($C7=0,$E7=0,$G7=0,$I7=0),0,IF(AND(B7=3,Monat>=1),+$C7/$B7-$D7,($C7+$E7+$G7+$I7)/$B7)),0)) -> 0
D8: =ROUND(IF($B8=0,0,C8/$B8/12*(12+1-Monat)),0) -> 0 | F8: =ROUND(IF(B8=0,0,IF(AND(C8=0,E8=0),0,(C8+E8)/B8)),0) -> 0 | H8: =IF(B8=0,0,ROUND(IF(AND($C8=0,$E8=0,$G8=0),0,($C8+$E8+$G8)/$B8),0)) -> 0 | J8: =IF(B8=0,0,ROUND(IF(AND($C8=0,$E8=0,$G8=0,$I8=0),0,IF(AND(B8=3,Monat>=1),+$C8/$B8-$D8,($C8+$E8+$G8+$I8)/$B8)),0)) -> 0
D9: =ROUND(IF($B9=0,0,C9/$B9/12*(12+1-Monat)),0) -> 0 | F9: =ROUND(IF(B9=0,0,IF(AND(C9=0,E9=0),0,(C9+E9)/B9)),0) -> 0 | H9: =IF(B9=0,0,ROUND(IF(AND($C9=0,$E9=0,$G9=0),0,($C9+$E9+$G9)/$B9),0)) -> 0 | J9: =IF(B9=0,0,ROUND(IF(AND($C9=0,$E9=0,$G9=0,$I9=0),0,IF(AND(B9=3,Monat>=1),+$C9/$B9-$D9,($C9+$E9+$G9+$I9)/$B9)),0)) -> 0
D10: =ROUND(IF($B10=0,0,C10/$B10/12*(12+1-Monat)),0) -> 0 | F10: =ROUND(IF(B10=0,0,IF(AND(C10=0,E10=0),0,(C10+E10)/B10)),0) -> 0 | H10: =IF(B10=0,0,ROUND(IF(AND($C10=0,$E10=0,$G10=0),0,($C10+$E10+$G10)/$B10),0)) -> 0 | J10: =IF(B10=0,0,ROUND(IF(AND($C10=0,$E10=0,$G10=0,$I10=0),0,IF(AND(B10=3,Monat>=1),+$C10/$B10-$D10,($C10+$E10+$G10+$I10)/$B10)),0)) -> 0
D11: =ROUND(IF($B11=0,0,C11/$B11/12*(12+1-Monat)),0) -> 0 | F11: =ROUND(IF(B11=0,0,IF(AND(C11=0,E11=0),0,(C11+E11)/B11)),0) -> 0 | H11: =IF(B11=0,0,ROUND(IF(AND($C11=0,$E11=0,$G11=0),0,($C11+$E11+$G11)/$B11),0)) -> 0 | J11: =IF(B11=0,0,ROUND(IF(AND($C11=0,$E11=0,$G11=0,$I11=0),0,IF(AND(B11=3,Monat>=1),+$C11/$B11-$D11,($C11+$E11+$G11+$I11)/$B11)),0)) -> 0
D12: =ROUND(IF($B12=0,0,C12/$B12/12*(12+1-Monat)),0) -> 0 | F12: =ROUND(IF(B12=0,0,IF(AND(C12=0,E12=0),0,(C12+E12)/B12)),0) -> 0 | H12: =IF(B12=0,0,ROUND(IF(AND($C12=0,$E12=0,$G12=0),0,($C12+$E12+$G12)/$B12),0)) -> 0 | J12: =IF(B12=0,0,ROUND(IF(AND($C12=0,$E12=0,$G12=0,$I12=0),0,IF(AND(B12=3,Monat>=1),+$C12/$B12-$D12,($C12+$E12+$G12+$I12)/$B12)),0)) -> 0
C13: =SUM(C4:C12) -> 0 | D13: =SUM(D4:D12) -> 0 | E13: =SUM(E4:E12) -> 0 | F13: =SUM(F4:F12) -> 0 | G13: =SUM(G4:G12) -> 0 | H13: =SUM(H4:H12) -> 0 | I13: =SUM(I4:I12) -> 0 | J13: =SUM(J4:J12) -> 0
A14: Geringwertige Wirtschaftsgüter (Anschaffungskosten bis 800 EUR netto)
D15: =IF(C15=0,0,IF(+C15>gwg,"Anschaffungskosten zu hoch für ein Geringwertiges Wirtschaftsgut - Ansatz unter Investitionen",C15)) -> 0 | F15: =IF(E15=0,0,IF(+E15>gwg,"Anschaffungskosten zu hoch für ein Geringwertiges Wirtschaftsgut - Ansatz unter Investitionen",E15)) -> 0 | H15: =IF(G15=0,0,IF(+G15>gwg,"Anschaffungskosten zu hoch für ein Geringwertiges Wirtschaftsgut - Ansatz unter Investitionen",G15)) -> 0 | J15: =IF(I15=0,0,IF(+I15>gwg,"Anschaffungskosten zu hoch für ein Geringwertiges Wirtschaftsgut - Ansatz unter Investitionen",I15)) -> 0
D16: =IF(C16=0,0,IF(+C16>gwg,"Anschaffungskosten zu hoch für ein Geringwertiges Wirtschaftsgut - Ansatz unter Investitionen",C16)) -> 0 | F16: =IF(E16=0,0,IF(+E16>gwg,"Anschaffungskosten zu hoch für ein Geringwertiges Wirtschaftsgut - Ansatz unter Investitionen",E16)) -> 0 | H16: =IF(G16=0,0,IF(+G16>gwg,"Anschaffungskosten zu hoch für ein Geringwertiges Wirtschaftsgut - Ansatz unter Investitionen",G16)) -> 0 | J16: =IF(I16=0,0,IF(+I16>gwg,"Anschaffungskosten zu hoch für ein Geringwertiges Wirtschaftsgut - Ansatz unter Investitionen",I16)) -> 0
D17: =IF(C17=0,0,IF(+C17>gwg,"Anschaffungskosten zu hoch für ein Geringwertiges Wirtschaftsgut - Ansatz unter Investitionen",C17)) -> 0 | F17: =IF(E17=0,0,IF(+E17>gwg,"Anschaffungskosten zu hoch für ein Geringwertiges Wirtschaftsgut - Ansatz unter Investitionen",E17)) -> 0 | H17: =IF(G17=0,0,IF(+G17>gwg,"Anschaffungskosten zu hoch für ein Geringwertiges Wirtschaftsgut - Ansatz unter Investitionen",G17)) -> 0 | J17: =IF(I17=0,0,IF(+I17>gwg,"Anschaffungskosten zu hoch für ein Geringwertiges Wirtschaftsgut - Ansatz unter Investitionen",I17)) -> 0
D18: =IF(C18=0,0,IF(+C18>gwg,"Anschaffungskosten zu hoch für ein Geringwertiges Wirtschaftsgut - Ansatz unter Investitionen",C18)) -> 0 | F18: =IF(E18=0,0,IF(+E18>gwg,"Anschaffungskosten zu hoch für ein Geringwertiges Wirtschaftsgut - Ansatz unter Investitionen",E18)) -> 0 | H18: =IF(G18=0,0,IF(+G18>gwg,"Anschaffungskosten zu hoch für ein Geringwertiges Wirtschaftsgut - Ansatz unter Investitionen",G18)) -> 0 | J18: =IF(I18=0,0,IF(+I18>gwg,"Anschaffungskosten zu hoch für ein Geringwertiges Wirtschaftsgut - Ansatz unter Investitionen",I18)) -> 0
D19: =IF(C19=0,0,IF(+C19>gwg,"Anschaffungskosten zu hoch für ein Geringwertiges Wirtschaftsgut - Ansatz unter Investitionen",C19)) -> 0 | F19: =IF(E19=0,0,IF(+E19>gwg,"Anschaffungskosten zu hoch für ein Geringwertiges Wirtschaftsgut - Ansatz unter Investitionen",E19)) -> 0 | H19: =IF(G19=0,0,IF(+G19>gwg,"Anschaffungskosten zu hoch für ein Geringwertiges Wirtschaftsgut - Ansatz unter Investitionen",G19)) -> 0 | J19: =IF(I19=0,0,IF(+I19>gwg,"Anschaffungskosten zu hoch für ein Geringwertiges Wirtschaftsgut - Ansatz unter Investitionen",I19)) -> 0
D20: =IF(C20=0,0,IF(+C20>gwg,"Anschaffungskosten zu hoch für ein Geringwertiges Wirtschaftsgut - Ansatz unter Investitionen",C20)) -> 0 | F20: =IF(E20=0,0,IF(+E20>gwg,"Anschaffungskosten zu hoch für ein Geringwertiges Wirtschaftsgut - Ansatz unter Investitionen",E20)) -> 0 | H20: =IF(G20=0,0,IF(+G20>gwg,"Anschaffungskosten zu hoch für ein Geringwertiges Wirtschaftsgut - Ansatz unter Investitionen",G20)) -> 0 | J20: =IF(I20=0,0,IF(+I20>gwg,"Anschaffungskosten zu hoch für ein Geringwertiges Wirtschaftsgut - Ansatz unter Investitionen",I20)) -> 0
D21: =IF(C21=0,0,IF(+C21>gwg,"Anschaffungskosten zu hoch für ein Geringwertiges Wirtschaftsgut - Ansatz unter Investitionen",C21)) -> 0 | F21: =IF(E21=0,0,IF(+E21>gwg,"Anschaffungskosten zu hoch für ein Geringwertiges Wirtschaftsgut - Ansatz unter Investitionen",E21)) -> 0 | H21: =IF(G21=0,0,IF(+G21>gwg,"Anschaffungskosten zu hoch für ein Geringwertiges Wirtschaftsgut - Ansatz unter Investitionen",G21)) -> 0 | J21: =IF(I21=0,0,IF(+I21>gwg,"Anschaffungskosten zu hoch für ein Geringwertiges Wirtschaftsgut - Ansatz unter Investitionen",I21)) -> 0
D22: =IF(C22=0,0,IF(+C22>gwg,"Anschaffungskosten zu hoch für ein Geringwertiges Wirtschaftsgut - Ansatz unter Investitionen",C22)) -> 0 | F22: =IF(E22=0,0,IF(+E22>gwg,"Anschaffungskosten zu hoch für ein Geringwertiges Wirtschaftsgut - Ansatz unter Investitionen",E22)) -> 0 | H22: =IF(G22=0,0,IF(+G22>gwg,"Anschaffungskosten zu hoch für ein Geringwertiges Wirtschaftsgut - Ansatz unter Investitionen",G22)) -> 0 | J22: =IF(I22=0,0,IF(+I22>gwg,"Anschaffungskosten zu hoch für ein Geringwertiges Wirtschaftsgut - Ansatz unter Investitionen",I22)) -> 0
D23: =IF(C23=0,0,IF(+C23>gwg,"Anschaffungskosten zu hoch für ein Geringwertiges Wirtschaftsgut - Ansatz unter Investitionen",C23)) -> 0 | F23: =IF(E23=0,0,IF(+E23>gwg,"Anschaffungskosten zu hoch für ein Geringwertiges Wirtschaftsgut - Ansatz unter Investitionen",E23)) -> 0 | H23: =IF(G23=0,0,IF(+G23>gwg,"Anschaffungskosten zu hoch für ein Geringwertiges Wirtschaftsgut - Ansatz unter Investitionen",G23)) -> 0 | J23: =IF(I23=0,0,IF(+I23>gwg,"Anschaffungskosten zu hoch für ein Geringwertiges Wirtschaftsgut - Ansatz unter Investitionen",I23)) -> 0
D24: =IF(C24=0,0,IF(+C24>gwg,"Anschaffungskosten zu hoch für ein Geringwertiges Wirtschaftsgut - Ansatz unter Investitionen",C24)) -> 0 | F24: =IF(E24=0,0,IF(+E24>gwg,"Anschaffungskosten zu hoch für ein Geringwertiges Wirtschaftsgut - Ansatz unter Investitionen",E24)) -> 0 | H24: =IF(G24=0,0,IF(+G24>gwg,"Anschaffungskosten zu hoch für ein Geringwertiges Wirtschaftsgut - Ansatz unter Investitionen",G24)) -> 0 | J24: =IF(I24=0,0,IF(+I24>gwg,"Anschaffungskosten zu hoch für ein Geringwertiges Wirtschaftsgut - Ansatz unter Investitionen",I24)) -> 0
D25: =IF(C25=0,0,IF(+C25>gwg,"Anschaffungskosten zu hoch für ein Geringwertiges Wirtschaftsgut - Ansatz unter Investitionen",C25)) -> 0 | F25: =IF(E25=0,0,IF(+E25>gwg,"Anschaffungskosten zu hoch für ein Geringwertiges Wirtschaftsgut - Ansatz unter Investitionen",E25)) -> 0 | H25: =IF(G25=0,0,IF(+G25>gwg,"Anschaffungskosten zu hoch für ein Geringwertiges Wirtschaftsgut - Ansatz unter Investitionen",G25)) -> 0 | J25: =IF(I25=0,0,IF(+I25>gwg,"Anschaffungskosten zu hoch für ein Geringwertiges Wirtschaftsgut - Ansatz unter Investitionen",I25)) -> 0
C26: =SUM(C15:C25) -> 0 | D26: =SUM(D15:D25) -> 0 | E26: =SUM(E15:E25) -> 0 | F26: =SUM(F15:F25) -> 0 | G26: =SUM(G15:G25) -> 0 | H26: =SUM(H15:H25) -> 0 | I26: =SUM(I15:I25) -> 0 | J26: =SUM(J15:J25) -> 0
A27: Warenlager-Erstausstattung und -aufstockung (Betriebsausgaben)
C33: =SUM(C28:C32) -> 0 | E33: =SUM(E28:E32) -> 0 | G33: =SUM(G28:G32) -> 0 | I33: =SUM(I28:I32) -> 0
A34: Sacheinlagen (Gegenstände, die Sie aus Ihrem Privatbesitz einbringen)
D35: =ROUND(IF($B35=0,0,C35/$B35/12*(12+1-Monat)),0) -> 0 | F35: =IF(B35=1,C35-D35,IF(D35>=C35,0,ROUND(IF(B35=0,0,IF(AND(C35=0,E35=0),0,(C35+E35)/B35)),0))) -> 0 | H35: =IF(B35=2,C35-D35-F35,IF(D35+F35>=C35,0,IF(B35=0,0,ROUND(IF(AND($C35=0,$E35=0,$G35=0),0,($C35+$E35+$G35)/$B35),0)))) -> 0 | J35: =IF(D35+F35+H35>=C35,0,IF(B35=0,0,ROUND(IF(AND($C35=0,$E35=0,$G35=0,$I35=0),0,IF(AND(B35=3,Monat>=1),+$C35/$B35-$D35,($C35+$E35+$G35+$I35)/$B35)),0))) -> 0
D36: =ROUND(IF($B36=0,0,C36/$B36/12*(12+1-Monat)),0) -> 0 | F36: =IF(B36=1,C36-D36,IF(D36>=C36,0,ROUND(IF(B36=0,0,IF(AND(C36=0,E36=0),0,(C36+E36)/B36)),0))) -> 0 | H36: =IF(D36+F36>=C36,0,IF(B36=0,0,ROUND(IF(AND($C36=0,$E36=0,$G36=0),0,($C36+$E36+$G36)/$B36),0))) -> 0 | J36: =IF(D36+F36+H36>=C36,0,IF(B36=0,0,ROUND(IF(AND($C36=0,$E36=0,$G36=0,$I36=0),0,IF(AND(B36=3,Monat>=1),+$C36/$B36-$D36,($C36+$E36+$G36+$I36)/$B36)),0))) -> 0
D37: =ROUND(IF($B37=0,0,C37/$B37/12*(12+1-Monat)),0) -> 0 | F37: =IF(B37=1,C37-D37,IF(D37>=C37,0,ROUND(IF(B37=0,0,IF(AND(C37=0,E37=0),0,(C37+E37)/B37)),0))) -> 0 | H37: =IF(D37+F37>=C37,0,IF(B37=0,0,ROUND(IF(AND($C37=0,$E37=0,$G37=0),0,($C37+$E37+$G37)/$B37),0))) -> 0 | J37: =IF(D37+F37+H37>=C37,0,IF(B37=0,0,ROUND(IF(AND($C37=0,$E37=0,$G37=0,$I37=0),0,IF(AND(B37=3,Monat>=1),+$C37/$B37-$D37,($C37+$E37+$G37+$I37)/$B37)),0))) -> 0
D38: =ROUND(IF($B38=0,0,C38/$B38/12*(12+1-Monat)),0) -> 0 | F38: =IF(B38=1,C38-D38,IF(D38>=C38,0,ROUND(IF(B38=0,0,IF(AND(C38=0,E38=0),0,(C38+E38)/B38)),0))) -> 0 | H38: =IF(D38+F38>=C38,0,IF(B38=0,0,ROUND(IF(AND($C38=0,$E38=0,$G38=0),0,($C38+$E38+$G38)/$B38),0))) -> 0 | J38: =IF(D38+F38+H38>=C38,0,IF(B38=0,0,ROUND(IF(AND($C38=0,$E38=0,$G38=0,$I38=0),0,IF(AND(B38=3,Monat>=1),+$C38/$B38-$D38,($C38+$E38+$G38+$I38)/$B38)),0))) -> 0
D39: =ROUND(IF($B39=0,0,C39/$B39/12*(12+1-Monat)),0) -> 0 | F39: =IF(B39=1,C39-D39,IF(D39>=C39,0,ROUND(IF(B39=0,0,IF(AND(C39=0,E39=0),0,(C39+E39)/B39)),0))) -> 0 | H39: =IF(D39+F39>=C39,0,IF(B39=0,0,ROUND(IF(AND($C39=0,$E39=0,$G39=0),0,($C39+$E39+$G39)/$B39),0))) -> 0 | J39: =IF(D39+F39+H39>=C39,0,IF(B39=0,0,ROUND(IF(AND($C39=0,$E39=0,$G39=0,$I39=0),0,IF(AND(B39=3,Monat>=1),+$C39/$B39-$D39,($C39+$E39+$G39+$I39)/$B39)),0))) -> 0
D40: =ROUND(IF($B40=0,0,C40/$B40/12*(12+1-Monat)),0) -> 0 | F40: =IF(B40=1,C40-D40,IF(D40>=C40,0,ROUND(IF(B40=0,0,IF(AND(C40=0,E40=0),0,(C40+E40)/B40)),0))) -> 0 | H40: =IF(D40+F40>=C40,0,IF(B40=0,0,ROUND(IF(AND($C40=0,$E40=0,$G40=0),0,($C40+$E40+$G40)/$B40),0))) -> 0 | J40: =IF(D40+F40+H40>=C40,0,IF(B40=0,0,ROUND(IF(AND($C40=0,$E40=0,$G40=0,$I40=0),0,IF(AND(B40=3,Monat>=1),+$C40/$B40-$D40,($C40+$E40+$G40+$I40)/$B40)),0))) -> 0
D41: =ROUND(IF($B41=0,0,C41/$B41/12*(12+1-Monat)),0) -> 0 | F41: =IF(B41=1,C41-D41,IF(D41>=C41,0,ROUND(IF(B41=0,0,IF(AND(C41=0,E41=0),0,(C41+E41)/B41)),0))) -> 0 | H41: =IF(D41+F41>=C41,0,IF(B41=0,0,ROUND(IF(AND($C41=0,$E41=0,$G41=0),0,($C41+$E41+$G41)/$B41),0))) -> 0 | J41: =IF(D41+F41+H41>=C41,0,IF(B41=0,0,ROUND(IF(AND($C41=0,$E41=0,$G41=0,$I41=0),0,IF(AND(B41=3,Monat>=1),+$C41/$B41-$D41,($C41+$E41+$G41+$I41)/$B41)),0))) -> 0
C42: =SUM(C35:C41) -> 0 | D42: =SUM(D35:D41) -> 0 | E42: =SUM(E35:E41) -> 0 | F42: =SUM(F35:F41) -> 0 | G42: =SUM(G35:G41) -> 0 | H42: =SUM(H35:H41) -> 0 | I42: =SUM(I35:I41) -> 0 | J42: =SUM(J35:J41) -> 0
A43: Summe | C43: =+C13+C42+C26 -> 0 | D43: =+D13+D42+D26 -> 0 | E43: =+E13+E42+E26 -> 0 | F43: =+F13+F42+F26 -> 0 | G43: =+G13+G42+G26 -> 0 | H43: =+H13+H42+H26 -> 0 | I43: =+I13+I42+I26 -> 0 | J43: =+J13+J42+J26 -> 0
A44: Monatlich im Anschaffungsjahr (einschl. GWG) | D44: =ROUND((+D13+D42+gwgeins)/(12+1-Monat),0) -> 0 | F44: =ROUND((F13+F42+F26)/12,0) -> 0 | H44: =ROUND((H13+H42+H26)/12,0) -> 0 | J44: =ROUND((J13+J42+J26)/12,0) -> 0

Sheet Umsatzplan
A1: Geplante Umsatzleistungen | B1: =IF('Notwendige Angaben'!A17="x","EUR pro Leistungseinheit (netto)","EUR pro Leistungseinheit (brutto)") -> EUR pro Leistungseinheit (brutto) | F1: Januar | G1: Februar | H1: März | I1: April | J1: Mai | K1: Juni | L1: Juli | M1: August | N1: September | O1: Oktober | P1: November | Q1: Dezember | R1: =+gj -> 2026 | S1: =+F1 -> Januar | T1: =+G1 -> Februar | U1: =+H1 -> März | V1: =+I1 -> April | W1: =+J1 -> Mai | X1: =+K1 -> Juni | Y1: =+L1 -> Juli | Z1: =+M1 -> August | ... AD1: =+Q1 -> Dezember | AE1: =+gj+1 -> 2027 | AF1: =+S1 -> Januar | AG1: =+T1 -> Februar | AH1: =+U1 -> März | AI1: =+V1 -> April | AJ1: =+W1 -> Mai | AK1: =+X1 -> Juni | AL1: =+Y1 -> Juli | AM1: =+Z1 -> August | ... AQ1: =+AD1 -> Dezember | AR1: =+gj+2 -> 2028 | AS1: =+AF1 -> Januar | AT1: =+AG1 -> Februar | AU1: =+AH1 -> März | AV1: =+AI1 -> April | AW1: =+AJ1 -> Mai | AX1: =+AK1 -> Juni | AY1: =+AL1 -> Juli | AZ1: =+AM1 -> August | ... BD1: =+AQ1 -> Dezember | BE1: =+gj+3 -> 2029
A2: Hier finden Sie ein Beispiel für die Bearbeitung des Reiters. Spalte A = Name der umsatzgenerierenden Leistung Spalte B - E = Preis der Leistung in diesem Jahr Spalte F - Q = Anzahl der angefallenen Leistungen im Monat | B2: =+gj -> 2026 | C2: =+B2+1 -> 2027 | D2: =+C2+1 -> 2028 | E2: =+D2+1 -> 2029 | F2: Menge (Stk.) | S2: Menge (Stk.) | AF2: Menge (Stk.) | AS2: Menge (Stk.)
A3: Beispiel: Sportstudio-Monatsabo | B3: 25 | C3: 25 | D3: 30 | E3: 35 | F3: 2 | G3: 5 | H3: 8 | I3: 12 | J3: 15 | K3: 20 | L3: 23 | M3: 25 | N3: 27 | O3: 24 | P3: 19 | Q3: 13
R4: =SUM(F4:Q4) -> 0 | AE4: =SUM(S4:AD4) -> 0 | AR4: =SUM(AF4:AQ4) -> 0 | BE4: =SUM(AS4:BD4) -> 0
R5: =SUM(F5:Q5) -> 0 | AE5: =SUM(S5:AD5) -> 0 | AR5: =SUM(AF5:AQ5) -> 0 | BE5: =SUM(AS5:BD5) -> 0
R6: =SUM(F6:Q6) -> 0 | AE6: =SUM(S6:AD6) -> 0 | AR6: =SUM(AF6:AQ6) -> 0 | BE6: =SUM(AS6:BD6) -> 0
R7: =SUM(F7:Q7) -> 0 | AE7: =SUM(S7:AD7) -> 0 | AR7: =SUM(AF7:AQ7) -> 0 | BE7: =SUM(AS7:BD7) -> 0
R8: =SUM(F8:Q8) -> 0 | AE8: =SUM(S8:AD8) -> 0 | AR8: =SUM(AF8:AQ8) -> 0 | BE8: =SUM(AS8:BD8) -> 0
R9: =SUM(F9:Q9) -> 0 | AE9: =SUM(S9:AD9) -> 0 | AR9: =SUM(AF9:AQ9) -> 0 | BE9: =SUM(AS9:BD9) -> 0
R10: =SUM(F10:Q10) -> 0 | AE10: =SUM(S10:AD10) -> 0 | AR10: =SUM(AF10:AQ10) -> 0 | BE10: =SUM(AS10:BD10) -> 0
R11: =SUM(F11:Q11) -> 0 | AE11: =SUM(S11:AD11) -> 0 | AR11: =SUM(AF11:AQ11) -> 0 | BE11: =SUM(AS11:BD11) -> 0
R12: =SUM(F12:Q12) -> 0 | AE12: =SUM(S12:AD12) -> 0 | AR12: =SUM(AF12:AQ12) -> 0 | BE12: =SUM(AS12:BD12) -> 0
R13: =SUM(F13:Q13) -> 0 | AE13: =SUM(S13:AD13) -> 0 | AR13: =SUM(AF13:AQ13) -> 0 | BE13: =SUM(AS13:BD13) -> 0
R14: =SUM(F14:Q14) -> 0 | AE14: =SUM(S14:AD14) -> 0 | AR14: =SUM(AF14:AQ14) -> 0 | BE14: =SUM(AS14:BD14) -> 0
R15: =SUM(F15:Q15) -> 0 | AE15: =SUM(S15:AD15) -> 0 | AR15: =SUM(AF15:AQ15) -> 0 | BE15: =SUM(AS15:BD15) -> 0
... R23: =SUM(F23:Q23) -> 0 | AE23: =SUM(S23:AD23) -> 0 | AR23: =SUM(AF23:AQ23) -> 0 | BE23: =SUM(AS23:BD23) -> 0
F24: =SUM(F4:F23) -> 0 | G24: =SUM(G4:G23) -> 0 | H24: =SUM(H4:H23) -> 0 | I24: =SUM(I4:I23) -> 0 | J24: =SUM(J4:J23) -> 0 | K24: =SUM(K4:K23) -> 0 | L24: =SUM(L4:L23) -> 0 | M24: =SUM(M4:M23) -> 0 | ... BE24: =SUM(BE4:BE23) -> 0
A25: =A4 -> 0 | F25: =+F4*$B4 -> 0 | G25: =+G4*$B4 -> 0 | H25: =+H4*$B4 -> 0 | I25: =+I4*$B4 -> 0 | J25: =+J4*$B4 -> 0 | K25: =+K4*$B4 -> 0 | L25: =+L4*$B4 -> 0 | M25: =+M4*$B4 -> 0 | ... Q25: =+Q4*$B4 -> 0 | R25: =SUM(F25:Q25) -> 0 | S25: =+S4*$C4 -> 0 | T25: =+T4*$C4 -> 0 | U25: =+U4*$C4 -> 0 | V25: =+V4*$C4 -> 0 | W25: =+W4*$C4 -> 0 | X25: =+X4*$C4 -> 0 | Y25: =+Y4*$C4 -> 0 | Z25: =+Z4*$C4 -> 0 | ... AD25: =+AD4*$C4 -> 0 | AE25: =SUM(S25:AD25) -> 0 | AF25: =+AF4*$D4 -> 0 | AG25: =+AG4*$D4 -> 0 | AH25: =+AH4*$D4 -> 0 | AI25: =+AI4*$D4 -> 0 | AJ25: =+AJ4*$D4 -> 0 | AK25: =+AK4*$D4 -> 0 | AL25: =+AL4*$D4 -> 0 | AM25: =+AM4*$D4 -> 0 | ... AQ25: =+AQ4*$D4 -> 0 | AR25: =SUM(AF25:AQ25) -> 0 | AS25: =+AS4*$E4 -> 0 | AT25: =+AT4*$E4 -> 0 | AU25: =+AU4*$E4 -> 0 | AV25: =+AV4*$E4 -> 0 | AW25: =+AW4*$E4 -> 0 | AX25: =+AX4*$E4 -> 0 | AY25: =+AY4*$E4 -> 0 | AZ25: =+AZ4*$E4 -> 0 | ... BD25: =+BD4*$E4 -> 0 | BE25: =SUM(AS25:BD25) -> 0
A26: =A5 -> 0 | F26: =+F5*$B5 -> 0 | G26: =+G5*$B5 -> 0 | H26: =+H5*$B5 -> 0 | I26: =+I5*$B5 -> 0 | J26: =+J5*$B5 -> 0 | K26: =+K5*$B5 -> 0 | L26: =+L5*$B5 -> 0 | M26: =+M5*$B5 -> 0 | ... Q26: =+Q5*$B5 -> 0 | R26: =SUM(F26:Q26) -> 0 | S26: =+S5*$C5 -> 0 | T26: =+T5*$C5 -> 0 | U26: =+U5*$C5 -> 0 | V26: =+V5*$C5 -> 0 | W26: =+W5*$C5 -> 0 | X26: =+X5*$C5 -> 0 | Y26: =+Y5*$C5 -> 0 | Z26: =+Z5*$C5 -> 0 | ... AD26: =+AD5*$C5 -> 0 | AE26: =SUM(S26:AD26) -> 0 | AF26: =+AF5*$D5 -> 0 | AG26: =+AG5*$D5 -> 0 | AH26: =+AH5*$D5 -> 0 | AI26: =+AI5*$D5 -> 0 | AJ26: =+AJ5*$D5 -> 0 | AK26: =+AK5*$D5 -> 0 | AL26: =+AL5*$D5 -> 0 | AM26: =+AM5*$D5 -> 0 | ... AQ26: =+AQ5*$D5 -> 0 | AR26: =SUM(AF26:AQ26) -> 0 | AS26: =+AS5*$E5 -> 0 | AT26: =+AT5*$E5 -> 0 | AU26: =+AU5*$E5 -> 0 | AV26: =+AV5*$E5 -> 0 | AW26: =+AW5*$E5 -> 0 | AX26: =+AX5*$E5 -> 0 | AY26: =+AY5*$E5 -> 0 | AZ26: =+AZ5*$E5 -> 0 | ... BD26: =+BD5*$E5 -> 0 | BE26: =SUM(AS26:BD26) -> 0
A27: =A6 -> 0 | F27: =+F6*$B6 -> 0 | G27: =+G6*$B6 -> 0 | H27: =+H6*$B6 -> 0 | I27: =+I6*$B6 -> 0 | J27: =+J6*$B6 -> 0 | K27: =+K6*$B6 -> 0 | L27: =+L6*$B6 -> 0 | M27: =+M6*$B6 -> 0 | ... Q27: =+Q6*$B6 -> 0 | R27: =SUM(F27:Q27) -> 0 | S27: =+S6*$C6 -> 0 | T27: =+T6*$C6 -> 0 | U27: =+U6*$C6 -> 0 | V27: =+V6*$C6 -> 0 | W27: =+W6*$C6 -> 0 | X27: =+X6*$C6 -> 0 | Y27: =+Y6*$C6 -> 0 | Z27: =+Z6*$C6 -> 0 | ... AD27: =+AD6*$C6 -> 0 | AE27: =SUM(S27:AD27) -> 0 | AF27: =+AF6*$D6 -> 0 | AG27: =+AG6*$D6 -> 0 | AH27: =+AH6*$D6 -> 0 | AI27: =+AI6*$D6 -> 0 | AJ27: =+AJ6*$D6 -> 0 | AK27: =+AK6*$D6 -> 0 | AL27: =+AL6*$D6 -> 0 | AM27: =+AM6*$D6 -> 0 | ... AQ27: =+AQ6*$D6 -> 0 | AR27: =SUM(AF27:AQ27) -> 0 | AS27: =+AS6*$E6 -> 0 | AT27: =+AT6*$E6 -> 0 | AU27: =+AU6*$E6 -> 0 | AV27: =+AV6*$E6 -> 0 | AW27: =+AW6*$E6 -> 0 | AX27: =+AX6*$E6 -> 0 | AY27: =+AY6*$E6 -> 0 | AZ27: =+AZ6*$E6 -> 0 | ... BD27: =+BD6*$E6 -> 0 | BE27: =SUM(AS27:BD27) -> 0
A28: =A7 -> 0 | F28: =+F7*$B7 -> 0 | G28: =+G7*$B7 -> 0 | H28: =+H7*$B7 -> 0 | I28: =+I7*$B7 -> 0 | J28: =+J7*$B7 -> 0 | K28: =+K7*$B7 -> 0 | L28: =+L7*$B7 -> 0 | M28: =+M7*$B7 -> 0 | ... Q28: =+Q7*$B7 -> 0 | R28: =SUM(F28:Q28) -> 0 | S28: =+S7*$C7 -> 0 | T28: =+T7*$C7 -> 0 | U28: =+U7*$C7 -> 0 | V28: =+V7*$C7 -> 0 | W28: =+W7*$C7 -> 0 | X28: =+X7*$C7 -> 0 | Y28: =+Y7*$C7 -> 0 | Z28: =+Z7*$C7 -> 0 | ... AD28: =+AD7*$C7 -> 0 | AE28: =SUM(S28:AD28) -> 0 | AF28: =+AF7*$D7 -> 0 | AG28: =+AG7*$D7 -> 0 | AH28: =+AH7*$D7 -> 0 | AI28: =+AI7*$D7 -> 0 | AJ28: =+AJ7*$D7 -> 0 | AK28: =+AK7*$D7 -> 0 | AL28: =+AL7*$D7 -> 0 | AM28: =+AM7*$D7 -> 0 | ... AQ28: =+AQ7*$D7 -> 0 | AR28: =SUM(AF28:AQ28) -> 0 | AS28: =+AS7*$E7 -> 0 | AT28: =+AT7*$E7 -> 0 | AU28: =+AU7*$E7 -> 0 | AV28: =+AV7*$E7 -> 0 | AW28: =+AW7*$E7 -> 0 | AX28: =+AX7*$E7 -> 0 | AY28: =+AY7*$E7 -> 0 | AZ28: =+AZ7*$E7 -> 0 | ... BD28: =+BD7*$E7 -> 0 | BE28: =SUM(AS28:BD28) -> 0
A29: =A8 -> 0 | F29: =+F8*$B8 -> 0 | G29: =+G8*$B8 -> 0 | H29: =+H8*$B8 -> 0 | I29: =+I8*$B8 -> 0 | J29: =+J8*$B8 -> 0 | K29: =+K8*$B8 -> 0 | L29: =+L8*$B8 -> 0 | M29: =+M8*$B8 -> 0 | ... Q29: =+Q8*$B8 -> 0 | R29: =SUM(F29:Q29) -> 0 | S29: =+S8*$C8 -> 0 | T29: =+T8*$C8 -> 0 | U29: =+U8*$C8 -> 0 | V29: =+V8*$C8 -> 0 | W29: =+W8*$C8 -> 0 | X29: =+X8*$C8 -> 0 | Y29: =+Y8*$C8 -> 0 | Z29: =+Z8*$C8 -> 0 | ... AD29: =+AD8*$C8 -> 0 | AE29: =SUM(S29:AD29) -> 0 | AF29: =+AF8*$D8 -> 0 | AG29: =+AG8*$D8 -> 0 | AH29: =+AH8*$D8 -> 0 | AI29: =+AI8*$D8 -> 0 | AJ29: =+AJ8*$D8 -> 0 | AK29: =+AK8*$D8 -> 0 | AL29: =+AL8*$D8 -> 0 | AM29: =+AM8*$D8 -> 0 | ... AQ29: =+AQ8*$D8 -> 0 | AR29: =SUM(AF29:AQ29) -> 0 | AS29: =+AS8*$E8 -> 0 | AT29: =+AT8*$E8 -> 0 | AU29: =+AU8*$E8 -> 0 | AV29: =+AV8*$E8 -> 0 | AW29: =+AW8*$E8 -> 0 | AX29: =+AX8*$E8 -> 0 | AY29: =+AY8*$E8 -> 0 | AZ29: =+AZ8*$E8 -> 0 | ... BD29: =+BD8*$E8 -> 0 | BE29: =SUM(AS29:BD29) -> 0
A30: =A9 -> 0 | F30: =+F9*$B9 -> 0 | G30: =+G9*$B9 -> 0 | H30: =+H9*$B9 -> 0 | I30: =+I9*$B9 -> 0 | J30: =+J9*$B9 -> 0 | K30: =+K9*$B9 -> 0 | L30: =+L9*$B9 -> 0 | M30: =+M9*$B9 -> 0 | ... Q30: =+Q9*$B9 -> 0 | R30: =SUM(F30:Q30) -> 0 | S30: =+S9*$C9 -> 0 | T30: =+T9*$C9 -> 0 | U30: =+U9*$C9 -> 0 | V30: =+V9*$C9 -> 0 | W30: =+W9*$C9 -> 0 | X30: =+X9*$C9 -> 0 | Y30: =+Y9*$C9 -> 0 | Z30: =+Z9*$C9 -> 0 | ... AD30: =+AD9*$C9 -> 0 | AE30: =SUM(S30:AD30) -> 0 | AF30: =+AF9*$D9 -> 0 | AG30: =+AG9*$D9 -> 0 | AH30: =+AH9*$D9 -> 0 | AI30: =+AI9*$D9 -> 0 | AJ30: =+AJ9*$D9 -> 0 | AK30: =+AK9*$D9 -> 0 | AL30: =+AL9*$D9 -> 0 | AM30: =+AM9*$D9 -> 0 | ... AQ30: =+AQ9*$D9 -> 0 | AR30: =SUM(AF30:AQ30) -> 0 | AS30: =+AS9*$E9 -> 0 | AT30: =+AT9*$E9 -> 0 | AU30: =+AU9*$E9 -> 0 | AV30: =+AV9*$E9 -> 0 | AW30: =+AW9*$E9 -> 0 | AX30: =+AX9*$E9 -> 0 | AY30: =+AY9*$E9 -> 0 | AZ30: =+AZ9*$E9 -> 0 | ... BD30: =+BD9*$E9 -> 0 | BE30: =SUM(AS30:BD30) -> 0
A31: =A10 -> 0 | F31: =+F10*$B10 -> 0 | G31: =+G10*$B10 -> 0 | H31: =+H10*$B10 -> 0 | I31: =+I10*$B10 -> 0 | J31: =+J10*$B10 -> 0 | K31: =+K10*$B10 -> 0 | L31: =+L10*$B10 -> 0 | M31: =+M10*$B10 -> 0 | ... Q31: =+Q10*$B10 -> 0 | R31: =SUM(F31:Q31) -> 0 | S31: =+S10*$C10 -> 0 | T31: =+T10*$C10 -> 0 | U31: =+U10*$C10 -> 0 | V31: =+V10*$C10 -> 0 | W31: =+W10*$C10 -> 0 | X31: =+X10*$C10 -> 0 | Y31: =+Y10*$C10 -> 0 | Z31: =+Z10*$C10 -> 0 | ... AD31: =+AD10*$C10 -> 0 | AE31: =SUM(S31:AD31) -> 0 | AF31: =+AF10*$D10 -> 0 | AG31: =+AG10*$D10 -> 0 | AH31: =+AH10*$D10 -> 0 | AI31: =+AI10*$D10 -> 0 | AJ31: =+AJ10*$D10 -> 0 | AK31: =+AK10*$D10 -> 0 | AL31: =+AL10*$D10 -> 0 | AM31: =+AM10*$D10 -> 0 | ... AQ31: =+AQ10*$D10 -> 0 | AR31: =SUM(AF31:AQ31) -> 0 | AS31: =+AS10*$E10 -> 0 | AT31: =+AT10*$E10 -> 0 | AU31: =+AU10*$E10 -> 0 | AV31: =+AV10*$E10 -> 0 | AW31: =+AW10*$E10 -> 0 | AX31: =+AX10*$E10 -> 0 | AY31: =+AY10*$E10 -> 0 | AZ31: =+AZ10*$E10 -> 0 | ... BD31: =+BD10*$E10 -> 0 | BE31: =SUM(AS31:BD31) -> 0
A32: =A11 -> 0 | F32: =+F11*$B11 -> 0 | G32: =+G11*$B11 -> 0 | H32: =+H11*$B11 -> 0 | I32: =+I11*$B11 -> 0 | J32: =+J11*$B11 -> 0 | K32: =+K11*$B11 -> 0 | L32: =+L11*$B11 -> 0 | M32: =+M11*$B11 -> 0 | ... Q32: =+Q11*$B11 -> 0 | R32: =SUM(F32:Q32) -> 0 | S32: =+S11*$C11 -> 0 | T32: =+T11*$C11 -> 0 | U32: =+U11*$C11 -> 0 | V32: =+V11*$C11 -> 0 | W32: =+W11*$C11 -> 0 | X32: =+X11*$C11 -> 0 | Y32: =+Y11*$C11 -> 0 | Z32: =+Z11*$C11 -> 0 | ... AD32: =+AD11*$C11 -> 0 | AE32: =SUM(S32:AD32) -> 0 | AF32: =+AF11*$D11 -> 0 | AG32: =+AG11*$D11 -> 0 | AH32: =+AH11*$D11 -> 0 | AI32: =+AI11*$D11 -> 0 | AJ32: =+AJ11*$D11 -> 0 | AK32: =+AK11*$D11 -> 0 | AL32: =+AL11*$D11 -> 0 | AM32: =+AM11*$D11 -> 0 | ... AQ32: =+AQ11*$D11 -> 0 | AR32: =SUM(AF32:AQ32) -> 0 | AS32: =+AS11*$E11 -> 0 | AT32: =+AT11*$E11 -> 0 | AU32: =+AU11*$E11 -> 0 | AV32: =+AV11*$E11 -> 0 | AW32: =+AW11*$E11 -> 0 | AX32: =+AX11*$E11 -> 0 | AY32: =+AY11*$E11 -> 0 | AZ32: =+AZ11*$E11 -> 0 | ... BD32: =+BD11*$E11 -> 0 | BE32: =SUM(AS32:BD32) -> 0
A33: =A12 -> 0 | F33: =+F12*$B12 -> 0 | G33: =+G12*$B12 -> 0 | H33: =+H12*$B12 -> 0 | I33: =+I12*$B12 -> 0 | J33: =+J12*$B12 -> 0 | K33: =+K12*$B12 -> 0 | L33: =+L12*$B12 -> 0 | M33: =+M12*$B12 -> 0 | ... Q33: =+Q12*$B12 -> 0 | R33: =SUM(F33:Q33) -> 0 | S33: =+S12*$C12 -> 0 | T33: =+T12*$C12 -> 0 | U33: =+U12*$C12 -> 0 | V33: =+V12*$C12 -> 0 | W33: =+W12*$C12 -> 0 | X33: =+X12*$C12 -> 0 | Y33: =+Y12*$C12 -> 0 | Z33: =+Z12*$C12 -> 0 | ... AD33: =+AD12*$C12 -> 0 | AE33: =SUM(S33:AD33) -> 0 | AF33: =+AF12*$D12 -> 0 | AG33: =+AG12*$D12 -> 0 | AH33: =+AH12*$D12 -> 0 | AI33: =+AI12*$D12 -> 0 | AJ33: =+AJ12*$D12 -> 0 | AK33: =+AK12*$D12 -> 0 | AL33: =+AL12*$D12 -> 0 | AM33: =+AM12*$D12 -> 0 | ... AQ33: =+AQ12*$D12 -> 0 | AR33: =SUM(AF33:AQ33) -> 0 | AS33: =+AS12*$E12 -> 0 | AT33: =+AT12*$E12 -> 0 | AU33: =+AU12*$E12 -> 0 | AV33: =+AV12*$E12 -> 0 | AW33: =+AW12*$E12 -> 0 | AX33: =+AX12*$E12 -> 0 | AY33: =+AY12*$E12 -> 0 | AZ33: =+AZ12*$E12 -> 0 | ... BD33: =+BD12*$E12 -> 0 | BE33: =SUM(AS33:BD33) -> 0
A34: =A13 -> 0 | F34: =+F13*$B13 -> 0 | G34: =+G13*$B13 -> 0 | H34: =+H13*$B13 -> 0 | I34: =+I13*$B13 -> 0 | J34: =+J13*$B13 -> 0 | K34: =+K13*$B13 -> 0 | L34: =+L13*$B13 -> 0 | M34: =+M13*$B13 -> 0 | ... Q34: =+Q13*$B13 -> 0 | R34: =SUM(F34:Q34) -> 0 | S34: =+S13*$C13 -> 0 | T34: =+T13*$C13 -> 0 | U34: =+U13*$C13 -> 0 | V34: =+V13*$C13 -> 0 | W34: =+W13*$C13 -> 0 | X34: =+X13*$C13 -> 0 | Y34: =+Y13*$C13 -> 0 | Z34: =+Z13*$C13 -> 0 | ... AD34: =+AD13*$C13 -> 0 | AE34: =SUM(S34:AD34) -> 0 | AF34: =+AF13*$D13 -> 0 | AG34: =+AG13*$D13 -> 0 | AH34: =+AH13*$D13 -> 0 | AI34: =+AI13*$D13 -> 0 | AJ34: =+AJ13*$D13 -> 0 | AK34: =+AK13*$D13 -> 0 | AL34: =+AL13*$D13 -> 0 | AM34: =+AM13*$D13 -> 0 | ... AQ34: =+AQ13*$D13 -> 0 | AR34: =SUM(AF34:AQ34) -> 0 | AS34: =+AS13*$E13 -> 0 | AT34: =+AT13*$E13 -> 0 | AU34: =+AU13*$E13 -> 0 | AV34: =+AV13*$E13 -> 0 | AW34: =+AW13*$E13 -> 0 | AX34: =+AX13*$E13 -> 0 | AY34: =+AY13*$E13 -> 0 | AZ34: =+AZ13*$E13 -> 0 | ... BD34: =+BD13*$E13 -> 0 | BE34: =SUM(AS34:BD34) -> 0
A35: =A14 -> 0 | F35: =+F14*$B14 -> 0 | G35: =+G14*$B14 -> 0 | H35: =+H14*$B14 -> 0 | I35: =+I14*$B14 -> 0 | J35: =+J14*$B14 -> 0 | K35: =+K14*$B14 -> 0 | L35: =+L14*$B14 -> 0 | M35: =+M14*$B14 -> 0 | ... Q35: =+Q14*$B14 -> 0 | R35: =SUM(F35:Q35) -> 0 | S35: =+S14*$C14 -> 0 | T35: =+T14*$C14 -> 0 | U35: =+U14*$C14 -> 0 | V35: =+V14*$C14 -> 0 | W35: =+W14*$C14 -> 0 | X35: =+X14*$C14 -> 0 | Y35: =+Y14*$C14 -> 0 | Z35: =+Z14*$C14 -> 0 | ... AD35: =+AD14*$C14 -> 0 | AE35: =SUM(S35:AD35) -> 0 | AF35: =+AF14*$D14 -> 0 | AG35: =+AG14*$D14 -> 0 | AH35: =+AH14*$D14 -> 0 | AI35: =+AI14*$D14 -> 0 | AJ35: =+AJ14*$D14 -> 0 | AK35: =+AK14*$D14 -> 0 | AL35: =+AL14*$D14 -> 0 | AM35: =+AM14*$D14 -> 0 | ... AQ35: =+AQ14*$D14 -> 0 | AR35: =SUM(AF35:AQ35) -> 0 | AS35: =+AS14*$E14 -> 0 | AT35: =+AT14*$E14 -> 0 | AU35: =+AU14*$E14 -> 0 | AV35: =+AV14*$E14 -> 0 | AW35: =+AW14*$E14 -> 0 | AX35: =+AX14*$E14 -> 0 | AY35: =+AY14*$E14 -> 0 | AZ35: =+AZ14*$E14 -> 0 | ... BD35: =+BD14*$E14 -> 0 | BE35: =SUM(AS35:BD35) -> 0
A36: =A15 -> 0 | F36: =+F15*$B15 -> 0 | G36: =+G15*$B15 -> 0 | H36: =+H15*$B15 -> 0 | I36: =+I15*$B15 -> 0 | J36: =+J15*$B15 -> 0 | K36: =+K15*$B15 -> 0 | L36: =+L15*$B15 -> 0 | M36: =+M15*$B15 -> 0 | ... Q36: =+Q15*$B15 -> 0 | R36: =SUM(F36:Q36) -> 0 | S36: =+S15*$C15 -> 0 | T36: =+T15*$C15 -> 0 | U36: =+U15*$C15 -> 0 | V36: =+V15*$C15 -> 0 | W36: =+W15*$C15 -> 0 | X36: =+X15*$C15 -> 0 | Y36: =+Y15*$C15 -> 0 | Z36: =+Z15*$C15 -> 0 | ... AD36: =+AD15*$C15 -> 0 | AE36: =SUM(S36:AD36) -> 0 | AF36: =+AF15*$D15 -> 0 | AG36: =+AG15*$D15 -> 0 | AH36: =+AH15*$D15 -> 0 | AI36: =+AI15*$D15 -> 0 | AJ36: =+AJ15*$D15 -> 0 | AK36: =+AK15*$D15 -> 0 | AL36: =+AL15*$D15 -> 0 | AM36: =+AM15*$D15 -> 0 | ... AQ36: =+AQ15*$D15 -> 0 | AR36: =SUM(AF36:AQ36) -> 0 | AS36: =+AS15*$E15 -> 0 | AT36: =+AT15*$E15 -> 0 | AU36: =+AU15*$E15 -> 0 | AV36: =+AV15*$E15 -> 0 | AW36: =+AW15*$E15 -> 0 | AX36: =+AX15*$E15 -> 0 | AY36: =+AY15*$E15 -> 0 | AZ36: =+AZ15*$E15 -> 0 | ... BD36: =+BD15*$E15 -> 0 | BE36: =SUM(AS36:BD36) -> 0
... A44: =A23 -> 0 | F44: =+F23*$B23 -> 0 | G44: =+G23*$B23 -> 0 | H44: =+H23*$B23 -> 0 | I44: =+I23*$B23 -> 0 | J44: =+J23*$B23 -> 0 | K44: =+K23*$B23 -> 0 | L44: =+L23*$B23 -> 0 | M44: =+M23*$B23 -> 0 | ... Q44: =+Q23*$B23 -> 0 | R44: =SUM(F44:Q44) -> 0 | S44: =+S23*$C23 -> 0 | T44: =+T23*$C23 -> 0 | U44: =+U23*$C23 -> 0 | V44: =+V23*$C23 -> 0 | W44: =+W23*$C23 -> 0 | X44: =+X23*$C23 -> 0 | Y44: =+Y23*$C23 -> 0 | Z44: =+Z23*$C23 -> 0 | ... AD44: =+AD23*$C23 -> 0 | AE44: =SUM(S44:AD44) -> 0 | AF44: =+AF23*$D23 -> 0 | AG44: =+AG23*$D23 -> 0 | AH44: =+AH23*$D23 -> 0 | AI44: =+AI23*$D23 -> 0 | AJ44: =+AJ23*$D23 -> 0 | AK44: =+AK23*$D23 -> 0 | AL44: =+AL23*$D23 -> 0 | AM44: =+AM23*$D23 -> 0 | ... AQ44: =+AQ23*$D23 -> 0 | AR44: =SUM(AF44:AQ44) -> 0 | AS44: =+AS23*$E23 -> 0 | AT44: =+AT23*$E23 -> 0 | AU44: =+AU23*$E23 -> 0 | AV44: =+AV23*$E23 -> 0 | AW44: =+AW23*$E23 -> 0 | AX44: =+AX23*$E23 -> 0 | AY44: =+AY23*$E23 -> 0 | AZ44: =+AZ23*$E23 -> 0 | ... BD44: =+BD23*$E23 -> 0 | BE44: =SUM(AS44:BD44) -> 0
A45: Hinweis: Wie lassen sich Preise und Mengen fundiert herleiten? | F45: =ROUND(SUM(F25:F44),0) -> 0 | G45: =ROUND(SUM(G25:G44),0) -> 0 | H45: =ROUND(SUM(H25:H44),0) -> 0 | I45: =ROUND(SUM(I25:I44),0) -> 0 | J45: =ROUND(SUM(J25:J44),0) -> 0 | K45: =ROUND(SUM(K25:K44),0) -> 0 | L45: =ROUND(SUM(L25:L44),0) -> 0 | M45: =ROUND(SUM(M25:M44),0) -> 0 | ... BE45: =ROUND(SUM(BE25:BE44),0) -> 0
A46: 1) Greifen Sie auf eigene Erfahrungswerte zurück. Wurde die Leistung bereits verkauft? Liefern erzielte Preise, tatsächliche Verkaufszahlen und bisherige Auslastung eine belastbare Grundlage? Prüfen Sie dabei kritisch, ob die bisherigen Preise wirtschaftlich tragfähig waren oder Anpassungsbedarf besteht.
A49: 2) Analysieren Sie Ihre Zielgruppe. Führen Sie Gespräche mit potenziellen Kundinnen und Kunden, um deren Zahlungsbereitschaft und voraussichtliche Nutzungshäufigkeit zu ermitteln. Entscheidend ist nicht Ihre Preisvorstellung, sondern der realistische Marktpreis in Verbindung mit konkretem Bedarf.
A52: 3) Untersuchen Sie Ihren direkten Wettbewerb. Vergleichen Sie Preise, Leistungsumfang und Marktauftritt. Leiten Sie daraus ab, wie Sie sich differenzieren möchten und welcher Preis im Wettbewerbsumfeld durchsetzbar ist.
A55: 4) Nutzen Sie Branchenbriefe, Marktstudien und Veröffentlichungen von Fachverbänden. Diese liefern Orientierungswerte zu Preisniveaus, Marktvolumen und Nachfrageentwicklung.
A57: 5) Berücksichtigen Sie Ihre tatsächliche Kapazität. Gerade im Dienstleistungsbereich begrenzt die fakturierbare Arbeitszeit den realisierbaren Umsatz. Planen Sie realistisch und berücksichtigen Sie Anlaufphasen sowie mögliche Auslastungsschwankungen.
A60: 6) Prüfen Sie abschließend die wirtschaftliche Tragfähigkeit. Preise und Absatzmenge müssen Fixkosten decken, einen angemessenen Unternehmerlohn ermöglichen und auch in einem konservativen Szenario belastbar sein. Jede Annahme sollte nachvollziehbar begründet werden können.

Sheet Rentabilitätsplan
A1: =IF('Notwendige Angaben'!A17="x","Bitte Netto-Werte (ohne Umsatz- bzw. Vorsteuer) eintragen!","Bitte bei den Kosten Brutto-Werte (einschließlich Umsatzsteuer) eintragen!") -> Bitte bei den Kosten Brutto-Werte (einschließlich Umsatzsteuer) eintragen! | D1: =+Umsatzplan!F1 -> Januar | E1: =+Umsatzplan!G1 -> Februar | F1: =+Umsatzplan!H1 -> März | G1: =+Umsatzplan!I1 -> April | H1: =+Umsatzplan!J1 -> Mai | I1: =+Umsatzplan!K1 -> Juni | J1: =+Umsatzplan!L1 -> Juli | K1: =+Umsatzplan!M1 -> August | ... O1: =+Umsatzplan!Q1 -> Dezember | P1: =+gj -> 2026 | Q1: =+Umsatzplan!S1 -> Januar | R1: =+Umsatzplan!T1 -> Februar | S1: =+Umsatzplan!U1 -> März | T1: =+Umsatzplan!V1 -> April | U1: =+Umsatzplan!W1 -> Mai | V1: =+Umsatzplan!X1 -> Juni | W1: =+Umsatzplan!Y1 -> Juli | X1: =+Umsatzplan!Z1 -> August | ... AB1: =+Umsatzplan!AD1 -> Dezember | AC1: =+gj+1 -> 2027 | AD1: =+Umsatzplan!AF1 -> Januar | AE1: =+Umsatzplan!AG1 -> Februar | AF1: =+Umsatzplan!AH1 -> März | AG1: =+Umsatzplan!AI1 -> April | AH1: =+Umsatzplan!AJ1 -> Mai | AI1: =+Umsatzplan!AK1 -> Juni | AJ1: =+Umsatzplan!AL1 -> Juli | AK1: =+Umsatzplan!AM1 -> August | ... AO1: =+Umsatzplan!AQ1 -> Dezember | AP1: =+gj+2 -> 2028 | AQ1: =+Umsatzplan!AS1 -> Januar | AR1: =+Umsatzplan!AT1 -> Februar | AS1: =+Umsatzplan!AU1 -> März | AT1: =+Umsatzplan!AV1 -> April | AU1: =+Umsatzplan!AW1 -> Mai | AV1: =+Umsatzplan!AX1 -> Juni | AW1: =+Umsatzplan!AY1 -> Juli | AX1: =+Umsatzplan!AZ1 -> August | ... BB1: =+Umsatzplan!BD1 -> Dezember | BC1: =+gj+3 -> 2029
A2: Umsatz Handel/Produktion
B3: =IF('Notwendige Angaben'!A17="x","Umsatz 19%","Umsatz ohne Umsatzsteuer") -> Umsatz ohne Umsatzsteuer | P3: =SUM(D3:O3) -> 0 | AC3: =SUM(Q3:AB3) -> 0 | AP3: =SUM(AD3:AO3) -> 0 | BC3: =SUM(AQ3:BB3) -> 0
B4: =IF('Notwendige Angaben'!A17="x","Umsatz 7%","--") -> -- | P4: =SUM(D4:O4) -> 0 | AC4: =SUM(Q4:AB4) -> 0 | AP4: =SUM(AD4:AO4) -> 0 | BC4: =SUM(AQ4:BB4) -> 0
A5: =IF(+'Notwendige Angaben'!A17="x","Umsatzplan Dienstleistungen 19%","Umsatzplan Dienstleistungen") -> Umsatzplan Dienstleistungen | D5: =+Umsatzplan!F45 -> 0 | E5: =+Umsatzplan!G45 -> 0 | F5: =+Umsatzplan!H45 -> 0 | G5: =+Umsatzplan!I45 -> 0 | H5: =+Umsatzplan!J45 -> 0 | I5: =+Umsatzplan!K45 -> 0 | J5: =+Umsatzplan!L45 -> 0 | K5: =+Umsatzplan!M45 -> 0 | ... O5: =+Umsatzplan!Q45 -> 0 | P5: =SUM(D5:O5) -> 0 | Q5: =+Umsatzplan!S45 -> 0 | R5: =+Umsatzplan!T45 -> 0 | S5: =+Umsatzplan!U45 -> 0 | T5: =+Umsatzplan!V45 -> 0 | U5: =+Umsatzplan!W45 -> 0 | V5: =+Umsatzplan!X45 -> 0 | W5: =+Umsatzplan!Y45 -> 0 | X5: =+Umsatzplan!Z45 -> 0 | ... AB5: =+Umsatzplan!AD45 -> 0 | AC5: =SUM(Q5:AB5) -> 0 | AD5: =+Umsatzplan!AF45 -> 0 | AE5: =+Umsatzplan!AG45 -> 0 | AF5: =+Umsatzplan!AH45 -> 0 | AG5: =+Umsatzplan!AI45 -> 0 | AH5: =+Umsatzplan!AJ45 -> 0 | AI5: =+Umsatzplan!AK45 -> 0 | AJ5: =+Umsatzplan!AL45 -> 0 | AK5: =+Umsatzplan!AM45 -> 0 | ... AO5: =+Umsatzplan!AQ45 -> 0 | AP5: =SUM(AD5:AO5) -> 0 | AQ5: =+Umsatzplan!AS45 -> 0 | AR5: =+Umsatzplan!AT45 -> 0 | AS5: =+Umsatzplan!AU45 -> 0 | AT5: =+Umsatzplan!AV45 -> 0 | AU5: =+Umsatzplan!AW45 -> 0 | AV5: =+Umsatzplan!AX45 -> 0 | AW5: =+Umsatzplan!AY45 -> 0 | AX5: =+Umsatzplan!AZ45 -> 0 | ... BB5: =+Umsatzplan!BD45 -> 0 | BC5: =SUM(AQ5:BB5) -> 0
C6: Erlösschmälerungen (Skonto) | D6: =(+D3+D4+D5)*$B6 -> 0 | E6: =(+E3+E4+E5)*$B6 -> 0 | F6: =(+F3+F4+F5)*$B6 -> 0 | G6: =(+G3+G4+G5)*$B6 -> 0 | H6: =(+H3+H4+H5)*$B6 -> 0 | I6: =(+I3+I4+I5)*$B6 -> 0 | J6: =(+J3+J4+J5)*$B6 -> 0 | K6: =(+K3+K4+K5)*$B6 -> 0 | ... O6: =(+O3+O4+O5)*$B6 -> 0 | P6: =SUM(D6:O6) -> 0 | Q6: =(+Q3+Q4+Q5)*$B6 -> 0 | R6: =(+R3+R4+R5)*$B6 -> 0 | S6: =(+S3+S4+S5)*$B6 -> 0 | T6: =(+T3+T4+T5)*$B6 -> 0 | U6: =(+U3+U4+U5)*$B6 -> 0 | V6: =(+V3+V4+V5)*$B6 -> 0 | W6: =(+W3+W4+W5)*$B6 -> 0 | X6: =(+X3+X4+X5)*$B6 -> 0 | ... AB6: =(+AB3+AB4+AB5)*$B6 -> 0 | AC6: =SUM(Q6:AB6) -> 0 | AD6: =(+AD3+AD4+AD5)*$B6 -> 0 | AE6: =(+AE3+AE4+AE5)*$B6 -> 0 | AF6: =(+AF3+AF4+AF5)*$B6 -> 0 | AG6: =(+AG3+AG4+AG5)*$B6 -> 0 | AH6: =(+AH3+AH4+AH5)*$B6 -> 0 | AI6: =(+AI3+AI4+AI5)*$B6 -> 0 | AJ6: =(+AJ3+AJ4+AJ5)*$B6 -> 0 | AK6: =(+AK3+AK4+AK5)*$B6 -> 0 | ... AO6: =(+AO3+AO4+AO5)*$B6 -> 0 | AP6: =SUM(AD6:AO6) -> 0 | AQ6: =(+AQ3+AQ4+AQ5)*$B6 -> 0 | AR6: =(+AR3+AR4+AR5)*$B6 -> 0 | AS6: =(+AS3+AS4+AS5)*$B6 -> 0 | AT6: =(+AT3+AT4+AT5)*$B6 -> 0 | AU6: =(+AU3+AU4+AU5)*$B6 -> 0 | AV6: =(+AV3+AV4+AV5)*$B6 -> 0 | AW6: =(+AW3+AW4+AW5)*$B6 -> 0 | AX6: =(+AX3+AX4+AX5)*$B6 -> 0 | ... BB6: =(+BB3+BB4+BB5)*$B6 -> 0 | BC6: =SUM(AQ6:BB6) -> 0
A7: sonstige betriebliche Erträge | P7: =SUM(D7:O7) -> 0 | AC7: =SUM(Q7:AB7) -> 0 | AP7: =SUM(AD7:AO7) -> 0 | BC7: =SUM(AQ7:BB7) -> 0
A8: Wareneinkauf/Materialaufwand
C9: pauschaler Wareneinsatz | E9: =(+D3+D4)*$B9 -> 0 | F9: =(+E3+E4)*$B9 -> 0 | G9: =(+F3+F4)*$B9 -> 0 | H9: =(+G3+G4)*$B9 -> 0 | I9: =(+H3+H4)*$B9 -> 0 | J9: =(+I3+I4)*$B9 -> 0 | K9: =(+J3+J4)*$B9 -> 0 | L9: =(+K3+K4)*$B9 -> 0 | ... O9: =(+N3+N4)*$B9 -> 0 | P9: =SUM(D9:O9) -> 0 | Q9: =(+O3+O4)*$B9 -> 0 | R9: =(+Q3+Q4)*$B9 -> 0 | S9: =(+R3+R4)*$B9 -> 0 | T9: =(+S3+S4)*$B9 -> 0 | U9: =(+T3+T4)*$B9 -> 0 | V9: =(+U3+U4)*$B9 -> 0 | W9: =(+V3+V4)*$B9 -> 0 | X9: =(+W3+W4)*$B9 -> 0 | Y9: =(+X3+X4)*$B9 -> 0 | ... AB9: =(+AA3+AA4)*$B9 -> 0 | AC9: =SUM(Q9:AB9) -> 0 | AD9: =(+AB3+AB4)*$B9 -> 0 | AE9: =(+AD3+AD4)*$B9 -> 0 | AF9: =(+AE3+AE4)*$B9 -> 0 | AG9: =(+AF3+AF4)*$B9 -> 0 | AH9: =(+AG3+AG4)*$B9 -> 0 | AI9: =(+AH3+AH4)*$B9 -> 0 | AJ9: =(+AI3+AI4)*$B9 -> 0 | AK9: =(+AJ3+AJ4)*$B9 -> 0 | AL9: =(+AK3+AK4)*$B9 -> 0 | ... AO9: =(+AN3+AN4)*$B9 -> 0 | AP9: =SUM(AD9:AO9) -> 0 | AQ9: =(+AO3+AO4)*$B9 -> 0 | AR9: =(+AQ3+AQ4)*$B9 -> 0 | AS9: =(+AR3+AR4)*$B9 -> 0 | AT9: =(+AS3+AS4)*$B9 -> 0 | AU9: =(+AT3+AT4)*$B9 -> 0 | AV9: =(+AU3+AU4)*$B9 -> 0 | AW9: =(+AV3+AV4)*$B9 -> 0 | AX9: =(+AW3+AW4)*$B9 -> 0 | AY9: =(+AX3+AX4)*$B9 -> 0 | ... BB9: =(+BA3+BA4)*$B9 -> 0 | BC9: =SUM(AQ9:BB9) -> 0
B10: Wareneinkauf Saisongeschäft | P10: =SUM(D10:O10) -> 0 | AC10: =SUM(Q10:AB10) -> 0 | AP10: =SUM(AD10:AO10) -> 0 | BC10: =SUM(AQ10:BB10) -> 0
B11: Warenlager-Erstausstattung und -aufstockung | D11: =IF(Monat=1,Investitionsplan!$C33,0) -> 0 | E11: =IF(Monat=2,Investitionsplan!$C33,0) -> 0 | F11: =IF(Monat=3,Investitionsplan!$C33,0) -> 0 | G11: =IF(Monat=4,Investitionsplan!$C33,0) -> 0 | H11: =IF(Monat=5,Investitionsplan!$C33,0) -> 0 | I11: =IF(Monat=6,Investitionsplan!$C33,0) -> 0 | J11: =IF(Monat=7,Investitionsplan!$C33,0) -> 0 | K11: =IF(Monat=8,Investitionsplan!$C33,0) -> 0 | L11: =IF(Monat=9,Investitionsplan!$C33,0) -> 0 | M11: =IF(Monat=10,Investitionsplan!$C33,0) -> 0 | N11: =IF(Monat=11,Investitionsplan!$C33,0) -> 0 | O11: =IF(Monat=12,Investitionsplan!$C33,0) -> 0 | P11: =SUM(D11:O11) -> 0 | Q11: =+Investitionsplan!E33 -> 0 | AC11: =SUM(Q11:AB11) -> 0 | AD11: =+Investitionsplan!G33 -> 0 | AP11: =SUM(AD11:AO11) -> 0 | AQ11: =+Investitionsplan!I33 -> 0 | BC11: =SUM(AQ11:BB11) -> 0
B12: Fremdleistungen | P12: =SUM(D12:O12) -> 0 | AC12: =SUM(Q12:AB12) -> 0 | AP12: =SUM(AD12:AO12) -> 0 | BC12: =SUM(AQ12:BB12) -> 0
A13: Rohergebnis | D13: =+D3+D4+D5-D6+D7-D9-D10-D11-D12 -> 0 | E13: =+E3+E4+E5-E6+E7-E9-E10-E11-E12 -> 0 | F13: =+F3+F4+F5-F6+F7-F9-F10-F11-F12 -> 0 | G13: =+G3+G4+G5-G6+G7-G9-G10-G11-G12 -> 0 | H13: =+H3+H4+H5-H6+H7-H9-H10-H11-H12 -> 0 | I13: =+I3+I4+I5-I6+I7-I9-I10-I11-I12 -> 0 | J13: =+J3+J4+J5-J6+J7-J9-J10-J11-J12 -> 0 | K13: =+K3+K4+K5-K6+K7-K9-K10-K11-K12 -> 0 | ... BC13: =+BC3+BC4+BC5-BC6+BC7-BC9-BC10-BC11-BC12 -> 0
A14: Personalaufwand incl. Sozialabgaben (ca. 22%) | P14: =SUM(D14:O14) -> 0 | AC14: =SUM(Q14:AB14) -> 0 | AP14: =SUM(AD14:AO14) -> 0 | BC14: =SUM(AQ14:BB14) -> 0
A15: Abschreibungen | D15: =IF(Monat<=0,0,IF(Monat=1,ROUND(afaeins,0),)) -> 0 | E15: =IF(Monat=0,0,IF(Monat=2,ROUND(afaeins,0),IF(Monat<2,afaeins,0))) -> 0 | F15: =IF(Monat=0,0,IF(Monat=3,ROUND(afaeins,0),IF(Monat<3,afaeins,0))) -> 0 | G15: =IF(Monat=0,0,IF(Monat=4,ROUND(afaeins,0),IF(Monat<4,afaeins,0))) -> 0 | H15: =IF(Monat=0,0,IF(Monat=5,ROUND(afaeins,0),IF(Monat<5,afaeins,0))) -> 0 | I15: =IF(Monat=0,0,IF(Monat=6,ROUND(afaeins,0),IF(Monat<6,afaeins,0))) -> 0 | J15: =IF(Monat=0,0,IF(Monat=7,ROUND(afaeins,0),IF(Monat<7,afaeins,0))) -> 0 | K15: =IF(Monat=0,0,IF(Monat=8,ROUND(afaeins,0),IF(Monat<8,afaeins,0))) -> 0 | L15: =IF(Monat=0,0,IF(Monat=9,ROUND(afaeins,0),IF(Monat<9,afaeins,0))) -> 0 | M15: =IF(Monat=0,0,IF(Monat=10,ROUND(afaeins,0),IF(Monat<10,afaeins,0))) -> 0 | N15: =IF(Monat=0,0,IF(Monat=11,ROUND(afaeins,0),IF(Monat<11,afaeins,0))) -> 0 | O15: =IF(Monat=0,0,IF(Monat=11,ROUND(afaeins,0),IF(Monat<11,afaeins,0))) -> 0 | P15: =SUM(D15:O15) -> 0 | Q15: =+afazwei -> 0 | R15: =+afazwei -> 0 | S15: =+afazwei -> 0 | T15: =+afazwei -> 0 | U15: =+afazwei -> 0 | V15: =+afazwei -> 0 | W15: =+afazwei -> 0 | X15: =+afazwei -> 0 | ... AB15: =+afazwei -> 0 | AC15: =SUM(Q15:AB15) -> 0 | AD15: =+afadrei -> 0 | AE15: =+afadrei -> 0 | AF15: =+afadrei -> 0 | AG15: =+afadrei -> 0 | AH15: =+afadrei -> 0 | AI15: =+afadrei -> 0 | AJ15: =+afadrei -> 0 | AK15: =+afadrei -> 0 | ... AO15: =+afadrei -> 0 | AP15: =SUM(AD15:AO15) -> 0 | AQ15: =+afavier -> 0 | AR15: =+afavier -> 0 | AS15: =+afavier -> 0 | AT15: =+afavier -> 0 | AU15: =+afavier -> 0 | AV15: =+afavier -> 0 | AW15: =+afavier -> 0 | AX15: =+afavier -> 0 | ... BB15: =+afavier -> 0 | BC15: =SUM(AQ15:BB15) -> 0
A16: Sonstige betriebliche Aufwendungen
B17: Raumkosten (Miete, Nebenkosten, Reinigung etc.)
C18: Miete und Nebenkosten | P18: =SUM(D18:O18) -> 0 | AC18: =SUM(Q18:AB18) -> 0 | AP18: =SUM(AD18:AO18) -> 0 | BC18: =SUM(AQ18:BB18) -> 0
C19: Instandhaltung | P19: =SUM(D19:O19) -> 0 | AC19: =SUM(Q19:AB19) -> 0 | AP19: =SUM(AD19:AO19) -> 0 | BC19: =SUM(AQ19:BB19) -> 0
B20: Telefon, Fax | P20: =SUM(D20:O20) -> 0 | AC20: =SUM(Q20:AB20) -> 0 | AP20: =SUM(AD20:AO20) -> 0 | BC20: =SUM(AQ20:BB20) -> 0
B21: Kfz-Kosten
C22: Kfz-Versicherungen | P22: =SUM(D22:O22) -> 0 | AC22: =SUM(Q22:AB22) -> 0 | AP22: =SUM(AD22:AO22) -> 0 | BC22: =SUM(AQ22:BB22) -> 0
C23: Wartung und Reparatur | P23: =SUM(D23:O23) -> 0 | AC23: =SUM(Q23:AB23) -> 0 | AP23: =SUM(AD23:AO23) -> 0 | BC23: =SUM(AQ23:BB23) -> 0
C24: Leasing (nur Kfz) | P24: =SUM(D24:O24) -> 0 | AC24: =SUM(Q24:AB24) -> 0 | AP24: =SUM(AD24:AO24) -> 0 | BC24: =SUM(AQ24:BB24) -> 0
C25: Betriebskosten | P25: =SUM(D25:O25) -> 0 | AC25: =SUM(Q25:AB25) -> 0 | AP25: =SUM(AD25:AO25) -> 0 | BC25: =SUM(AQ25:BB25) -> 0
B26: Reise- und Bewirtungskosten | P26: =SUM(D26:O26) -> 0 | AC26: =SUM(Q26:AB26) -> 0 | AP26: =SUM(AD26:AO26) -> 0 | BC26: =SUM(AQ26:BB26) -> 0
B27: Anzeigen- und sonst. Werbung | P27: =SUM(D27:O27) -> 0 | AC27: =SUM(Q27:AB27) -> 0 | AP27: =SUM(AD27:AO27) -> 0 | BC27: =SUM(AQ27:BB27) -> 0
B28: Kosten der Warenabgabe
C29: Verpackung/Ausgangsfrachten | P29: =SUM(D29:O29) -> 0 | AC29: =SUM(Q29:AB29) -> 0 | AP29: =SUM(AD29:AO29) -> 0 | BC29: =SUM(AQ29:BB29) -> 0
C30: Provisionen | P30: =SUM(D30:O30) -> 0 | AC30: =SUM(Q30:AB30) -> 0 | AP30: =SUM(AD30:AO30) -> 0 | BC30: =SUM(AQ30:BB30) -> 0
B31: Instandhaltung Betriebs- und Geschäftsausstattung | P31: =SUM(D31:O31) -> 0 | AC31: =SUM(Q31:AB31) -> 0 | AP31: =SUM(AD31:AO31) -> 0 | BC31: =SUM(AQ31:BB31) -> 0
B32: Leasing (außer Kfz) | P32: =SUM(D32:O32) -> 0 | AC32: =SUM(Q32:AB32) -> 0 | AP32: =SUM(AD32:AO32) -> 0 | BC32: =SUM(AQ32:BB32) -> 0
B33: Kosten von Software | P33: =SUM(D33:O33) -> 0 | AC33: =SUM(Q33:AB33) -> 0 | AP33: =SUM(AD33:AO33) -> 0 | BC33: =SUM(AQ33:BB33) -> 0
B34: Versicherungen (ohne Kfz) | P34: =SUM(D34:O34) -> 0 | AC34: =SUM(Q34:AB34) -> 0 | AP34: =SUM(AD34:AO34) -> 0 | BC34: =SUM(AQ34:BB34) -> 0
B35: Beiträge, Gebühren | P35: =SUM(D35:O35) -> 0 | AC35: =SUM(Q35:AB35) -> 0 | AP35: =SUM(AD35:AO35) -> 0 | BC35: =SUM(AQ35:BB35) -> 0
B36: Bürobedarf | P36: =SUM(D36:O36) -> 0 | AC36: =SUM(Q36:AB36) -> 0 | AP36: =SUM(AD36:AO36) -> 0 | BC36: =SUM(AQ36:BB36) -> 0
B37: Postwertzeichen | P37: =SUM(D37:O37) -> 0 | AC37: =SUM(Q37:AB37) -> 0 | AP37: =SUM(AD37:AO37) -> 0 | BC37: =SUM(AQ37:BB37) -> 0
B38: Fachliteratur | P38: =SUM(D38:O38) -> 0 | AC38: =SUM(Q38:AB38) -> 0 | AP38: =SUM(AD38:AO38) -> 0 | BC38: =SUM(AQ38:BB38) -> 0
B39: Fortbildung | P39: =SUM(D39:O39) -> 0 | AC39: =SUM(Q39:AB39) -> 0 | AP39: =SUM(AD39:AO39) -> 0 | BC39: =SUM(AQ39:BB39) -> 0
B40: Messen und Ausstellungen | P40: =SUM(D40:O40) -> 0 | AC40: =SUM(Q40:AB40) -> 0 | AP40: =SUM(AD40:AO40) -> 0 | BC40: =SUM(AQ40:BB40) -> 0
...

Sheet Liquiditätsplan
A1: Der Liquiditätsplan nimmt automatisch die Werte aus dem Rentabilitätsplan | D1: =+Umsatzplan!F1 -> Januar | E1: =+Umsatzplan!G1 -> Februar | F1: =+Umsatzplan!H1 -> März | G1: =+Umsatzplan!I1 -> April | H1: =+Umsatzplan!J1 -> Mai | I1: =+Umsatzplan!K1 -> Juni | J1: =+Umsatzplan!L1 -> Juli | K1: =+Umsatzplan!M1 -> August | ... O1: =+Umsatzplan!Q1 -> Dezember | P1: =+gj -> 2026 | Q1: =+Umsatzplan!S1 -> Januar | R1: =+Umsatzplan!T1 -> Februar | S1: =+Umsatzplan!U1 -> März | T1: =+Umsatzplan!V1 -> April | U1: =+Umsatzplan!W1 -> Mai | V1: =+Umsatzplan!X1 -> Juni | W1: =+Umsatzplan!Y1 -> Juli | X1: =+Umsatzplan!Z1 -> August | ... AB1: =+Umsatzplan!AD1 -> Dezember | AC1: =+gj+1 -> 2027 | AD1: =+Umsatzplan!AF1 -> Januar | AE1: =+Umsatzplan!AG1 -> Februar | AF1: =+Umsatzplan!AH1 -> März | AG1: =+Umsatzplan!AI1 -> April | AH1: =+Umsatzplan!AJ1 -> Mai | AI1: =+Umsatzplan!AK1 -> Juni | AJ1: =+Umsatzplan!AL1 -> Juli | AK1: =+Umsatzplan!AM1 -> August | ... AO1: =+Umsatzplan!AQ1 -> Dezember | AP1: =+gj+2 -> 2028 | AQ1: =+Umsatzplan!AS1 -> Januar | AR1: =+Umsatzplan!AT1 -> Februar | AS1: =+Umsatzplan!AU1 -> März | AT1: =+Umsatzplan!AV1 -> April | AU1: =+Umsatzplan!AW1 -> Mai | AV1: =+Umsatzplan!AX1 -> Juni | AW1: =+Umsatzplan!AY1 -> Juli | AX1: =+Umsatzplan!AZ1 -> August | ... BB1: =+Umsatzplan!BD1 -> Dezember | BC1: =+gj+3 -> 2029
B2: =IF('Notwendige Angaben'!$A$17="x","Bruttoumsatz Handel/Produktion","Umsatz Handel/Produktion") -> Umsatz Handel/Produktion
C3: =IF('Notwendige Angaben'!$A$17="x","Bruttoumsatz 19%","Umsatz ohne Umsatzsteuer") -> Umsatz ohne Umsatzsteuer | D3: =IF(rechnung="x",0,+Rentabilitätsplan!D3*(1+USteins)) -> 0 | E3: =IF(rechnung="x",+Rentabilitätsplan!D3*(1+USteins),+Rentabilitätsplan!E3*(1+USteins)) -> 0 | F3: =IF(rechnung="x",+Rentabilitätsplan!E3*(1+USteins),+Rentabilitätsplan!F3*(1+USteins)) -> 0 | G3: =IF(rechnung="x",+Rentabilitätsplan!F3*(1+USteins),+Rentabilitätsplan!G3*(1+USteins)) -> 0 | H3: =IF(rechnung="x",+Rentabilitätsplan!G3*(1+USteins),+Rentabilitätsplan!H3*(1+USteins)) -> 0 | I3: =IF(rechnung="x",+Rentabilitätsplan!H3*(1+USteins),+Rentabilitätsplan!I3*(1+USteins)) -> 0 | J3: =IF(rechnung="x",+Rentabilitätsplan!I3*(1+USteins),+Rentabilitätsplan!J3*(1+USteins)) -> 0 | K3: =IF(rechnung="x",+Rentabilitätsplan!J3*(1+USteins),+Rentabilitätsplan!K3*(1+USteins)) -> 0 | L3: =IF(rechnung="x",+Rentabilitätsplan!K3*(1+USteins),+Rentabilitätsplan!L3*(1+USteins)) -> 0 | ... O3: =IF(rechnung="x",+Rentabilitätsplan!N3*(1+USteins),+Rentabilitätsplan!O3*(1+USteins)) -> 0 | P3: =SUM(D3:O3) -> 0 | Q3: =IF(rechnung="x",+Rentabilitätsplan!O3*(1+USteins),+Rentabilitätsplan!Q3*(1+USt)) -> 0 | R3: =IF(rechnung="x",+Rentabilitätsplan!Q3*(1+USt),+Rentabilitätsplan!R3*(1+USt)) -> 0 | S3: =IF(rechnung="x",+Rentabilitätsplan!R3*(1+USt),+Rentabilitätsplan!S3*(1+USt)) -> 0 | T3: =IF(rechnung="x",+Rentabilitätsplan!S3*(1+USt),+Rentabilitätsplan!T3*(1+USt)) -> 0 | U3: =IF(rechnung="x",+Rentabilitätsplan!T3*(1+USt),+Rentabilitätsplan!U3*(1+USt)) -> 0 | V3: =IF(rechnung="x",+Rentabilitätsplan!U3*(1+USt),+Rentabilitätsplan!V3*(1+USt)) -> 0 | W3: =IF(rechnung="x",+Rentabilitätsplan!V3*(1+USt),+Rentabilitätsplan!W3*(1+USt)) -> 0 | X3: =IF(rechnung="x",+Rentabilitätsplan!W3*(1+USt),+Rentabilitätsplan!X3*(1+USt)) -> 0 | Y3: =IF(rechnung="x",+Rentabilitätsplan!X3*(1+USt),+Rentabilitätsplan!Y3*(1+USt)) -> 0 | ... AB3: =IF(rechnung="x",+Rentabilitätsplan!AA3*(1+USt),+Rentabilitätsplan!AB3*(1+USt)) -> 0 | AC3: =SUM(Q3:AB3) -> 0 | AD3: =IF(rechnung="x",+Rentabilitätsplan!AB3*(1+USt),+Rentabilitätsplan!AD3*(1+USt)) -> 0 | AE3: =IF(rechnung="x",+Rentabilitätsplan!AD3*(1+USt),+Rentabilitätsplan!AE3*(1+USt)) -> 0 | AF3: =IF(rechnung="x",+Rentabilitätsplan!AE3*(1+USt),+Rentabilitätsplan!AF3*(1+USt)) -> 0 | AG3: =IF(rechnung="x",+Rentabilitätsplan!AF3*(1+USt),+Rentabilitätsplan!AG3*(1+USt)) -> 0 | AH3: =IF(rechnung="x",+Rentabilitätsplan!AG3*(1+USt),+Rentabilitätsplan!AH3*(1+USt)) -> 0 | AI3: =IF(rechnung="x",+Rentabilitätsplan!AH3*(1+USt),+Rentabilitätsplan!AI3*(1+USt)) -> 0 | AJ3: =IF(rechnung="x",+Rentabilitätsplan!AI3*(1+USt),+Rentabilitätsplan!AJ3*(1+USt)) -> 0 | AK3: =IF(rechnung="x",+Rentabilitätsplan!AJ3*(1+USt),+Rentabilitätsplan!AK3*(1+USt)) -> 0 | AL3: =IF(rechnung="x",+Rentabilitätsplan!AK3*(1+USt),+Rentabilitätsplan!AL3*(1+USt)) -> 0 | ... AO3: =IF(rechnung="x",+Rentabilitätsplan!AN3*(1+USt),+Rentabilitätsplan!AO3*(1+USt)) -> 0 | AP3: =SUM(AD3:AO3) -> 0 | AQ3: =IF(rechnung="x",+Rentabilitätsplan!AO3*(1+USt),+Rentabilitätsplan!AQ3*(1+USt)) -> 0 | AR3: =IF(rechnung="x",+Rentabilitätsplan!AQ3*(1+USt),+Rentabilitätsplan!AR3*(1+USt)) -> 0 | AS3: =IF(rechnung="x",+Rentabilitätsplan!AR3*(1+USt),+Rentabilitätsplan!AS3*(1+USt)) -> 0 | AT3: =IF(rechnung="x",+Rentabilitätsplan!AS3*(1+USt),+Rentabilitätsplan!AT3*(1+USt)) -> 0 | AU3: =IF(rechnung="x",+Rentabilitätsplan!AT3*(1+USt),+Rentabilitätsplan!AU3*(1+USt)) -> 0 | AV3: =IF(rechnung="x",+Rentabilitätsplan!AU3*(1+USt),+Rentabilitätsplan!AV3*(1+USt)) -> 0 | AW3: =IF(rechnung="x",+Rentabilitätsplan!AV3*(1+USt),+Rentabilitätsplan!AW3*(1+USt)) -> 0 | AX3: =IF(rechnung="x",+Rentabilitätsplan!AW3*(1+USt),+Rentabilitätsplan!AX3*(1+USt)) -> 0 | AY3: =IF(rechnung="x",+Rentabilitätsplan!AX3*(1+USt),+Rentabilitätsplan!AY3*(1+USt)) -> 0 | ... BB3: =IF(rechnung="x",+Rentabilitätsplan!BA3*(1+USt),+Rentabilitätsplan!BB3*(1+USt)) -> 0 | BC3: =SUM(AQ3:BB3) -> 0
